BEGIN:VCALENDAR
VERSION:2.0
PRODID:-//WP EVENT Manager Ical//NONSGML Events //EN
CALSCALE:GREGORIAN

BEGIN:VEVENT

DTSTART:20260522T160000PMZ
DTEND:20260522T200000PMZ
LOCATION:4418 Cooper Ln, Holt, FL
SUMMARY:Guardian Casualty Response – (5/22/2026)
DESCRIPTION:		
						
						
					
			
						
				
			/*! elementor - v3.23.0 - 05-08-2024 */
.elementor-widget-text-editor.elementor-drop-cap-view-stacked .elementor-drop-cap{background-color:#69727d;color:#fff}.elementor-widget-text-editor.elementor-drop-cap-view-framed .elementor-drop-cap{color:#69727d;border:3px solid;background-color:transparent}.elementor-widget-text-editor:not(.elementor-drop-cap-view-default) .elementor-drop-cap{margin-top:8px}.elementor-widget-text-editor:not(.elementor-drop-cap-view-default) .elementor-drop-cap-letter{width:1em;height:1em}.elementor-widget-text-editor .elementor-drop-cap{float:left;text-align:center;line-height:1;font-size:50px}.elementor-widget-text-editor .elementor-drop-cap-letter{display:inline-block}				Course DescriptionTodd Angell is the founder of Guardian Angell Consulting, which partnered with Barreland Hatchet Trade Group in 2023 to provide medical training to the B&amp;H community.Todd is the lead instructor for Guardian Casualty Response Course. This coursefocuses on training responsible citizens to have a knowledge and skill-base forproviding emergency medical aid. The course provides decades of experience-based,evidence-based medical training to non-medical citizens.This course was born following the Orlando, Florida terrorist attack in 2016, which tookthe lives of 49 Americans and injured over 50 more. This class is the down and dirtymedical training, required to save a life for the most common cause of death forAmericans age 1-44, Trauma.						
				
					
		
					
		
				
						
					
			
						
				
			/*! elementor - v3.23.0 - 05-08-2024 */
.elementor-widget-image{text-align:center}.elementor-widget-image a{display:inline-block}.elementor-widget-image a img[src$=".svg"]{width:48px}.elementor-widget-image img{vertical-align:middle;display:inline-block}																							
				
					
		
				
			
						
				
							Who is Todd AngellTodd comes from a deep-rooted, pre-hospital medical career. Todd started his journeyas a United States Navy Corpsman, attached with the United States Marine Corpsinfantry. Completing two deployments as a Corpsman, he is well-versed in combatmedicine. On his second deployment, Todd received the nationu2019s third highest award forvalor, the Silver Star, while serving as Corpsman for 1 st BN, 8 th Marines, WeaponsCompany.Upon honorable discharge, Todd began his civilian career as a firefighter/paramedic fora large, metro fire department in Florida. Todd also taught paramedic school for 3 years,before working his way to his new job as a Flight Paramedic. Todd flies for a level 1Trauma Center, taking care of the most critically injured and ill patients in SouthwestFlorida.Todd firmly believes in sharing knowledge and experience with his community,to make us all-around better.Todd firmly believes that we are Never Hopeless, Numquam Desperato.Todd Angellu2019s credentialsBA, EMT-P, UFCCP, FP-C, TP-C, NRP, TPATC, ACLS						
				
				
				
																										
				
					
		
					
		
				
						
					
			
							
		
					
		
				
		
END:VEVENT
END:VCALENDAR
